BEGIN:VCALENDAR
PRODID:-//github.com/rianjs/ical.net//NONSGML ical.net 4.0//EN
VERSION:2.0
BEGIN:VEVENT
DESCRIPTION:Siste skoledag før sommerferien
DTEND:20270618T000000
DTSTAMP:20260424T134722Z
DTSTART:20270618T000000
SEQUENCE:0
SUMMARY:Siste skoledag før sommerferien
UID:20ec2c70-1c06-4a6c-bc2f-7c13b6bf40cd
END:VEVENT
END:VCALENDAR
