BEGIN:VCALENDAR
PRODID:-//github.com/rianjs/ical.net//NONSGML ical.net 4.0//EN
VERSION:2.0
BEGIN:VEVENT
DESCRIPTION:Siste dag før sommerferien
DTEND:20260619T235959
DTSTAMP:20260424T135443Z
DTSTART;VALUE=DATE:20260619
SEQUENCE:0
SUMMARY:Siste dag før sommerferien
UID:c90b1ca8-fabf-44c6-91b3-1f96c38fb9f8
END:VEVENT
END:VCALENDAR
